BEGIN:VCALENDAR
VERSION:2.0
PRODID:-//Sport Gross - ECPv6.11.0.1//NONSGML v1.0//EN
CALSCALE:GREGORIAN
METHOD:PUBLISH
X-WR-CALNAME:Sport Gross
X-ORIGINAL-URL:https://sport-gross.de
X-WR-CALDESC:Veranstaltungen für Sport Gross
REFRESH-INTERVAL;VALUE=DURATION:PT1H
X-Robots-Tag:noindex
X-PUBLISHED-TTL:PT1H
BEGIN:VTIMEZONE
TZID:Europe/Berlin
BEGIN:DAYLIGHT
TZOFFSETFROM:+0100
TZOFFSETTO:+0200
TZNAME:CEST
DTSTART:20260329T010000
END:DAYLIGHT
BEGIN:STANDARD
TZOFFSETFROM:+0200
TZOFFSETTO:+0100
TZNAME:CET
DTSTART:20261025T010000
END:STANDARD
END:VTIMEZONE
BEGIN:VEVENT
DTSTART;VALUE=DATE:20260408
DTEND;VALUE=DATE:20261031
DTSTAMP:20260423T143849
CREATED:20260408T152543Z
LAST-MODIFIED:20260420T092435Z
UID:2042-1775606400-1793404799@sport-gross.de
SUMMARY:Umleitung wegen Straßensperrung
DESCRIPTION:Liebe Kunden\, liebe Interessenten\, \naktuell wird in der Amstetter Straße gebaut. Eine Umleitung ab dem Kreisverkehr in der Rohrackerstraße Richtung Heumadener Straße / Untere Heckenstraße ist eingerichtet. Die Parkplätze vor dem Geschäft sind weiterhin anfahrbar. \n \nKarte: OpenStreetMap.de \n 
URL:https://sport-gross.de/event/umleitung-wegen-strassensperrung/
LOCATION:SportGross\, Amstetter Str. 27\, Stuttgart-Hedelfingen\, 70329\, Germany
CATEGORIES:Aktuelles
ORGANIZER;CN="SportGross":MAILTO:info@sport-gross.de
END:VEVENT
BEGIN:VEVENT
DTSTART;VALUE=DATE:20260501
DTEND;VALUE=DATE:20261001
DTSTAMP:20260423T143849
CREATED:20260408T153848Z
LAST-MODIFIED:20260420T092238Z
UID:2052-1777593600-1790812799@sport-gross.de
SUMMARY:Geänderte Öffnungszeiten
DESCRIPTION:Bitte beachten Sie unsere Sommeröffnungszeiten von Mai bis September.
URL:https://sport-gross.de/event/geaenderte-oeffnungszeiten/
LOCATION:SportGross\, Amstetter Str. 27\, Stuttgart-Hedelfingen\, 70329\, Germany
CATEGORIES:Aktuelles
ORGANIZER;CN="SportGross":MAILTO:info@sport-gross.de
END:VEVENT
END:VCALENDAR